BEGIN:VCALENDAR
VERSION:2.0
PRODID:-//Paguristas - ECPv6.9.1//NONSGML v1.0//EN
CALSCALE:GREGORIAN
METHOD:PUBLISH
X-ORIGINAL-URL:https://paguristas.gr
X-WR-CALDESC:Events for Paguristas
REFRESH-INTERVAL;VALUE=DURATION:PT1H
X-Robots-Tag:noindex
X-PUBLISHED-TTL:PT1H
BEGIN:VTIMEZONE
TZID:UTC
BEGIN:STANDARD
TZOFFSETFROM:+0000
TZOFFSETTO:+0000
TZNAME:UTC
DTSTART:20160101T000000
END:STANDARD
END:VTIMEZONE
BEGIN:VEVENT
DTSTART;TZID=UTC:20160911T193000
DTEND;TZID=UTC:20160911T213000
DTSTAMP:20260425T212057
CREATED:20230320T074236Z
LAST-MODIFIED:20230320T074236Z
UID:3758-1473622200-1473629400@paguristas.gr
SUMMARY:Συνάντηση Paguristas.
DESCRIPTION:Ξεκίνημα της νέας εθελοντικής χρονιάς 2016-17 με Paguro-συνάντηση φυσικά!\nΣυντονιζόμαστε εν’όψει της φθινοπωρινής περιόδου η οποία αναμένεται πλούσια σε δράση!\nΣυζητάμε\, ανταλάσσουμε απόψεις κι ακούμε νέες ιδέες για δραστηριότητες.\nΠροσκεκλημένοι όπως πάντα\, όλοι οι πολίτες των Ιωαννίνων!\nΣας περιμένουμε!
URL:https://paguristas.gr/event/%cf%83%cf%85%ce%bd%ce%ac%ce%bd%cf%84%ce%b7%cf%83%ce%b7-paguristas-4/
LOCATION:Z Café bistro\, Γαριβάλδη 39\, Ιωάννινα\, Ήπειρος\, 45221\, Greece
CATEGORIES:Συναντήσεις Ομάδας
ATTACH;FMTTYPE=image/jpeg:https://paguristas.gr/wp-content/uploads/2023/03/pagouristas_sinantisi.jpg
END:VEVENT
BEGIN:VEVENT
DTSTART;TZID=UTC:20160511T190000
DTEND;TZID=UTC:20160511T210000
DTSTAMP:20260425T212057
CREATED:20230320T073654Z
LAST-MODIFIED:20230320T073654Z
UID:3755-1462993200-1463000400@paguristas.gr
SUMMARY:Συνάντηση Paguristas!
DESCRIPTION:Προσκεκλημένοι όπως πάντα\, ολοι οι πολίτες των Ιωαννίνων! \nΣε μία ακόμη συνάντηση της ανοικτής εθελοντικής ομάδος της πόλης μας\,\nσυζητάμε\, ανταλλάσσουμε απόψεις\, καταθέτουμε προτάσεις-ιδέες και συνεχίζουμε να προσπαθούμε για την βελτίωση της κοινωνίας μας (όσο μπορούμε).\nΚαι… σίγουρα\, η προσπάθεια θα πρέπει να γίνεται με πράξεις κι όχι μόνον με ευχές! \nΣε περιμένουμε ώστε να αποφασίσουμε μαζί τις επόμενες κινήσεις μας-την επόμενη δραστηριότητα της ομάδας! \nΗ μοναδική προϋπόθεση συμμετοχής σου σε οποιαδήποτε συνάντηση ή δραστηριότητα των Paguristas\, είναι η διάθεση ανιδιοτελούς προσφοράς στην πόλη\, στον άνθρωπο και στη φύση! \nΡαντεβού λοιπόν στην Paguro-συνάντηση του Μαίου!\n*Στο “Ζ” cafe bistro – Γαριβάλδη 39 – Ιωάννινα.
URL:https://paguristas.gr/event/%cf%83%cf%85%ce%bd%ce%ac%ce%bd%cf%84%ce%b7%cf%83%ce%b7-paguristas-3/
LOCATION:Z Café bistro\, Γαριβάλδη 39\, Ιωάννινα\, Ήπειρος\, 45221\, Greece
CATEGORIES:Συναντήσεις Ομάδας
ATTACH;FMTTYPE=image/jpeg:https://paguristas.gr/wp-content/uploads/2023/03/pagouristas_ethelontismos.jpg
END:VEVENT
BEGIN:VEVENT
DTSTART;TZID=UTC:20160420T090000
DTEND;TZID=UTC:20160420T130000
DTSTAMP:20260425T212057
CREATED:20230320T073415Z
LAST-MODIFIED:20230320T073415Z
UID:3752-1461142800-1461157200@paguristas.gr
SUMMARY:'' Νοιάζομαι και δρώ ! ''
DESCRIPTION:ΕΘΕΛΟΝΤΙΣΜΟΣ-ΑΛΛΗΛΕΓΓΥΗ-ΕΝΕΡΓΟΣ ΠΟΛΙΤΗΣ! \nΤί πιστεύετε οτι θα συμβεί\, άν εισαχθεί στα σχολεία της χώρας μας ένα πρόγραμμα με στόχο την ενδυνάμωση της κοινωνίας των πολιτών\, την ενίσχυση της κοινωνικής δικαιοσύνης και της δημοκρατίας; \nΟι ”Paguristas” συμμετέχουν ενεργά στο πιό όμορφο event της πόλης! \nΜαθητές του Γυμνασίου και Λυκείου Ελεούσας\, του 5ου Γυμνασίου Ιωαννίνων και του Γυμνασίου Πωγωνιανής\, θα βρεθούν στο κέντρο της πόλης και θα δράσουν\, θα δούν\, θα μάθουν\, θα δημιουργήσουν\, θα κρίνουν\, θα σκεφτούν. \nΟι εκπαιδευτικοί των σχολείων μαζί με την ανοικτή εθελοντική ομάδα ”Paguristas”\, με τον σύλλογο για την ηθική μεταχείριση των ζώων ”Anima” και την ”Χ.Ε.Ν. Ιωαννίνων” συνεργάζονται και οι μαθητές το χαίρονται! \nΕιδικά για τη συγκεκριμένη δράση ομάδες από τα 4 σχολεία τα οποία μετέχουν στο πρόγραμμα «Νοιάζομαι και δρώ» (συνολικά περίπου 80 μαθητές συνολικά) θα ”παίξουν” σε παιχνίδι θησαυρού εθελοντισμού στην πόλη των Ιωαννίνων στις 20 Aπριλίου. \nΤο πρόγραμμα συμπεριλαμβάνει τις παρακάτω δραστηριότητες: \n– “Τα χρήσιμα άχρηστα υλικά” (Τα παιδιά θα μάθουν να δημιουργούν χρήσιμα και όμορφα πράγματα από ανακυκλώσιμα υλικά με την συνεργασία της Χ.Ε.Ν. Ιωαννίνων στον προαύλιο χώρο της Περιφέρειας Ηπείρου). \n– “Φωτογραφίζοντας τα καλά και τα κακά της πόλης μας” (Βόλτα σε καθορισμένη διαδρομή και συλλογή φωτογραφιών από τα παιδιά). \n– “Τα ζώα είναι φίλοι μας” (Ενημέρωση για τη φιλοζωία από τους εκπρόσωπους της ANIMA- Σύλλογος για την ηθική μεταχείριση των ζώων στην πόλη μας). Η δράση θα υλοποιηθεί στο χώρο της Ζωσιμαίας Βιβλιοθήκης. \n– “Παρεμβαίνουμε στις διαβάσεις” (διανομή φυλλαδίων στους οδηγούς για τα δικαιώματα των πεζών και το σεβασμό των κανόνων των διαβάσεων\, καθαρισμός πινακίδων σήμανσης από τα αυτοκόλλητα και ενημέρωση των διερχόμενων πολιτών με πλακάτ που θα σχεδιάσουν τα παιδιά σε συνεργασία με φορείς εθελοντισμού της πόλης). \n– “Βοηθώντας τους ειδικούς φίλους μας» . Παράδοση χειροποίητων Πασχαλινών λαμπάδων στους μαθητές Ειδικών σχολείων. \nΕπίσης\, στο χώρο της πλατείας Βασιλέως Πύρρου\, θα υπάρχει περίπτερο της Κιβωτού του Κόσμου Πωγωνιανής\, όπου θα ενημερωθούν οι πολίτες για το έργο της Κιβωτού αλλά παράλληλα και για τους τομείς που μπορεί να προσφέρει-να υποστηρίξει κάποιος\, μέσω του εθελοντισμού! \nΤο εκπαιδευτικό πρόγραμμα «Νοιάζομαι και Δρω» είναι μία ολοκληρωμένη εκπαιδευτική δράση\, εγκεκριμένη από το ΥΠΕΘ. Το πρόγραμμα έχει ως στόχο να ευαισθητοποιήσει τους μαθητές στα προβλήματα του κοινωνικού συνόλου και να τους ωθήσει να αναλάβουν εθελοντικές δράσεις οι οποίες θα συμβάλουν στην άμβλυνσή τους. \nΑπώτερος σκοπός του εγχειρήματος είναι η καλλιέργεια της αλληλεγγύης και της κοινωνικής συνείδησης των μαθητών\, ώστε να σκέφτονται και να δρουν ως ενεργοί πολίτες στις προκλήσεις που αντιμετωπίζουν στο κοινωνικό περιβάλλον. \nΑφενός η κατανόηση των εννοιών και της σημασίας του εθελοντισμού και της αλληλεγγύης\, καθώς και της στενής σύνδεσής τους με την ιδιότητα του ενεργού πολίτη\, αφετέρου η καλλιέργεια στάσεων στην κατεύθυνση της μεγαλύτερης κοινωνικής συμμετοχής και της ανάληψης πρωτοβουλιών για συγκεκριμένες δράσεις.\nΟι δράσεις εθελοντισμού και αλληλεγγύης αντιμετωπίζονται ώς εκφράσεις της ενεργού πολιτειότητας κι όχι ώς ”καλές πράξεις” \nΤο πρόγραμμα υλοποιείται ταυτόχρονα σε ένα δίκτυο 60 σχολείων σε όλη την Ελλάδα που συντονίζουν τις δράσεις τους\, ανταλλάσσουν τα αποτελέσματά τους και οργανώνονται ανά ομάδες σχολείων από ειδικούς συντονιστές. \nΤο πρόγραμμα υλοποιείται καθόλη τη διάρκεια του σχολικού έτους τόσο εντός όσο και εκτός ωρολογίου προγράμματος. Οι μαθητές έχουν την ευκαιρία\, μέσα από συγκεκριμένες βιωματικές δραστηριότητες\, να ευαισθητοποιηθούν σε σχέση με τον εθελοντισμό και την κοινωνική αλληλεγγύη\, να έρθουν σε επαφή με εθελοντικές ομάδες που δραστηριοποιούνται στην Ελλάδα και την περιοχή μας\, να μεταφέρουν εμπειρίες και\nγνώσεις στους συμμαθητές τους μέσα από επιλεγμένες διδακτικές ενότητες του σχολικού προγράμματος. \nΤο κυριότερο\, να ενεργοποιηθούν κοινωνικά ως μελλοντικοί πολίτες\, μέσα από την συμμετοχή τους σε εθελοντική ομάδα με συγκεκριμένη αποστολή που θα επιλέξουν οι ίδιοι. \nΣε αυτές τις δραστηριότητες έχει ενταχθεί και η συγκεκριμένη δράση «Αν ο εθελοντισμός ήταν παιχνίδι θα ήταν …Θησαυρός». \nΓια περισσότερες πληροφορίες για το έργο σε Πανελλαδικό επίπεδο\, μπορείτε να\nεπισκεφτείτε την ιστοσελίδα του προγράμματος στη ηλεκτρονική διεύθυνση:\nwww.noiazomaikaidrw.gr
URL:https://paguristas.gr/event/%ce%bd%ce%bf%ce%b9%ce%ac%ce%b6%ce%bf%ce%bc%ce%b1%ce%b9-%ce%ba%ce%b1%ce%b9-%ce%b4%cf%81%cf%8e/
LOCATION:Unnamed Venue\, Ιωάννινα\, Greece
CATEGORIES:Δραστηριότητα
ATTACH;FMTTYPE=image/jpeg:https://paguristas.gr/wp-content/uploads/2023/03/pagouristas_noiazomai-kai-dro.jpg
END:VEVENT
BEGIN:VEVENT
DTSTART;TZID=UTC:20160417T110000
DTEND;TZID=UTC:20160417T133000
DTSTAMP:20260425T212057
CREATED:20230320T072928Z
LAST-MODIFIED:20230320T072928Z
UID:3747-1460890800-1460899800@paguristas.gr
SUMMARY:Let's do it Greece 2016...στο νησάκι της Παμβώτιδας!
DESCRIPTION:Για ακόμη μία φορά\, η ανοικτή εθελοντική ομάδα της πόλης των Ιωαννίνων\, οι ”Paguristas”\, συμμετέχουν στην παγκόσμια καμπάνια καθαρισμού ”Let’s do it”. \nΦέτος\, με το μυαλό και την καρδιά μας να βρίσκεται στους πρόσφυγες του Κατσικά\, των Δολιανών και της Κόνιτσας\, θα προβούμε σε καθαρισμό στον οικισμό αλλά και στο δάσος του πανέμορφου νησιού μας! \nΡαντεβού την Κυριακή 17 Απριλίου\, στις 10:15 στο λιμανάκι του μώλου\, ώστε να πάρουμε καραβάκι από Ιωάννινα πρός Νησί.\nΤα δρομολόγιο είναι στις 11:00 πρός Νησί αλλά όταν έχει αρκετό κόσμο φεύγει και στις 10:30. \nΗ τιμή του εισιτηρίου είναι 2 euro (με την επιστροφή\, συνολικά 4euro)
URL:https://paguristas.gr/event/lets-do-it-greece-2016-%cf%83%cf%84%ce%bf-%ce%bd%ce%b7%cf%83%ce%ac%ce%ba%ce%b9-%cf%84%ce%b7%cf%82-%cf%80%ce%b1%ce%bc%ce%b2%cf%8e%cf%84%ce%b9%ce%b4%ce%b1%cf%82/
LOCATION:Νήσος Ιωαννίνων\, Greece
CATEGORIES:Καθαρισμός
ATTACH;FMTTYPE=image/jpeg:https://paguristas.gr/wp-content/uploads/2023/03/pagouristas_Lets-do-it-Greece-2016.jpg
END:VEVENT
BEGIN:VEVENT
DTSTART;TZID=UTC:20160403T190000
DTEND;TZID=UTC:20160403T210000
DTSTAMP:20260425T212057
CREATED:20230320T072302Z
LAST-MODIFIED:20230320T072302Z
UID:3742-1459710000-1459717200@paguristas.gr
SUMMARY:Συνάντηση Paguristas !
DESCRIPTION:Συνάντηση Paguristas !\nΒάζουμε…εθελοντικό χρώμα στη ζωή μας.\nΕπιμένουμε να δίνουμε αγάπη και χαμογελάμε παρά τις δυσκολίες!\nΑφού…τελικά θα τα καταφέρουμε!\nΣας περιμένουμε να συζητήσουμε κυρίως για τη συνέχιση της δράσης μας επί του προσφυγικού – των τρόπων στήριξης των συνανθρώπων μας.\nΚαι φυσικά\, για οποιοδήποτε άλλο θέμα υπάρξει.\nΕλάτε να ανταλλάξουμε απόψεις\, να ακουστούν ιδέες για νέες δραστηριότητες και να αποφασίσουμε για τη συνέχεια.
URL:https://paguristas.gr/event/%cf%83%cf%85%ce%bd%ce%ac%ce%bd%cf%84%ce%b7%cf%83%ce%b7-paguristas-2/
LOCATION:Z Café bistro\, Γαριβάλδη 39\, Ιωάννινα\, Ήπειρος\, 45221\, Greece
CATEGORIES:Συναντήσεις Ομάδας
ATTACH;FMTTYPE=image/jpeg:https://paguristas.gr/wp-content/uploads/2023/03/pagouristas_Συνάντηση_Paguristas.jpg
END:VEVENT
BEGIN:VEVENT
DTSTART;TZID=UTC:20160316T184500
DTEND;TZID=UTC:20160316T200000
DTSTAMP:20260425T212057
CREATED:20230320T071904Z
LAST-MODIFIED:20230320T071904Z
UID:3739-1458153900-1458158400@paguristas.gr
SUMMARY:Αλληλέγγυοι Paguristas! στους Πρόσφυγες και Μετανάστες!
DESCRIPTION:Οι Paguristas! δεν μένουμε απαθείς στα προβλήματα των Προσφύγων και Μεταναστών που πρόκειται να φιλοξενηθούν στην πόλη μας.\nΚαι την Τετάρτη\, στη συνάντησή μας\, συζητάμε ιδέες κι αποφασίζουμε δραστηριότητες για να βοηθήσουμε υποστηρικτικά όπου και όσο μπορούμε.\nΣτεκόμαστε δίπλα στους συνανθρώπους μας\, αλληλέγγυοι και ενεργοί.\n(Θα ξεκινήσουμε ακριβώς στις 19:00 χωρίς καθυστέρηση).
URL:https://paguristas.gr/event/%ce%b1%ce%bb%ce%bb%ce%b7%ce%bb%ce%ad%ce%b3%ce%b3%cf%85%ce%bf%ce%b9-paguristas-%cf%83%cf%84%ce%bf%cf%85%cf%82-%cf%80%cf%81%cf%8c%cf%83%cf%86%cf%85%ce%b3%ce%b5%cf%82-%ce%ba%ce%b1%ce%b9-%ce%bc%ce%b5/
LOCATION:Z Café bistro\, Γαριβάλδη 39\, Ιωάννινα\, Ήπειρος\, 45221\, Greece
CATEGORIES:Συναντήσεις Ομάδας
ATTACH;FMTTYPE=image/jpeg:https://paguristas.gr/wp-content/uploads/2023/03/pagouristas_Αλληλέγγυοι-Paguristas.jpg
END:VEVENT
BEGIN:VEVENT
DTSTART;TZID=UTC:20160214T190000
DTEND;TZID=UTC:20160214T210000
DTSTAMP:20260425T212057
CREATED:20230320T070947Z
LAST-MODIFIED:20230320T071105Z
UID:3733-1455476400-1455483600@paguristas.gr
SUMMARY:Συνάντηση Paguristas !
DESCRIPTION:Paguristas! \nΑκόμη μια συνάντηση της ανοικτής εθελοντικής ομάδας της πόλης των Ιωαννίνων! \nΣας περιμένουμε αυτή την Κυριακή\, στη μηνιαία μας συνάντηση για να συζητήσουμε\, να απολαύσουμε τον καφέ μας και να αποφασίσουμε τις επόμενες δραστηριότητές μας\, με τις οποίες θα παρέμβουμε εθελοντικά-θετικά στις υποθέσεις της πόλης μας\, της κοινωνίας μας\, της δικής μας ζωής. \nΈλα κι εσύ με τις δικές σου ιδέες\, απόψεις και προτάσεις! Έλα να γνωριστούμε! \nΣυμμετέχεις όποτε θέλεις και όποτε μπορείς\, σε όποια δραστηριότητα επιθυμείς. Χωρίς καμία εγγραφή\, χωρίς καμία δέσμευση ή προϋπόθεση. Επίσης\, δέν έχουμε πρόεδρο\, γραμματέα και Δ.Σ. \nΟ ορισμός του ”free” δηλαδή! \nΜια ομάδα πολιτών αλλά ενεργών πολιτών! Με μοναδικό σκοπό\, το κοινό καλό!
URL:https://paguristas.gr/event/%cf%83%cf%85%ce%bd%ce%ac%ce%bd%cf%84%ce%b7%cf%83%ce%b7-paguristas/
LOCATION:Z Café bistro\, Γαριβάλδη 39\, Ιωάννινα\, Ήπειρος\, 45221\, Greece
CATEGORIES:Συναντήσεις Ομάδας
ATTACH;FMTTYPE=image/jpeg:https://paguristas.gr/wp-content/uploads/2023/03/pagouristas_Συνάντηση-Paguristas.jpg
END:VEVENT
BEGIN:VEVENT
DTSTART;TZID=UTC:20160204T213000
DTEND;TZID=UTC:20160204T235500
DTSTAMP:20260425T212057
CREATED:20230320T065802Z
LAST-MODIFIED:20230320T065802Z
UID:3726-1454621400-1454630100@paguristas.gr
SUMMARY:Κοπή πίτας Paguristas 2016.
DESCRIPTION:Η κοπή πίτας της ανοικτής εθελοντικής ομάδας της πόλης των Ιωαννίνων\, για το 2016!
URL:https://paguristas.gr/event/%ce%ba%ce%bf%cf%80%ce%ae-%cf%80%ce%af%cf%84%ce%b1%cf%82-paguristas-2016/
LOCATION:Unnamed Venue\, Αλέξανδρου Δελμούζου 10\, Ιωάννινα
CATEGORIES:Συναντήσεις Ομάδας
ATTACH;FMTTYPE=image/jpeg:https://paguristas.gr/wp-content/uploads/2023/03/pagouristas_Κοπή-πίτας-Paguristas-2016.jpg
END:VEVENT
BEGIN:VEVENT
DTSTART;TZID=UTC:20160131T110000
DTEND;TZID=UTC:20160131T130000
DTSTAMP:20260425T212057
CREATED:20230320T065010Z
LAST-MODIFIED:20230320T065010Z
UID:3718-1454238000-1454245200@paguristas.gr
SUMMARY:Εμείς θα είμαστε εκεί ! Εσύ ;
DESCRIPTION:«Θέλουμε την πόλη της ζωής μας καθαρή!» \nPaguristas\, Δήμος Ιωαννιτών\, Δημοτική Κοινότητα Ιωαννίνων\, Δημοτική Κοινότητα Ανατολής Ιωαννίνων\, ΚΕ.Θ.Ε.Α. Ηπείρου\, Ι.Ε.Κ. Δέλτα Ιωαννίνων! \nΜια παρέμβαση με διπλή στόχευση είναι αυτή στην οποία θα πάρει μέρος η ανοικτή εθελοντική ομάδα Paguristas την Κυριακή 31 Ιανουαρίου. Τίτλος της δράσης είναι «Θέλουμε την πόλη της ζωής μας καθαρή!» και αφορά στον καθαρισμό της παραλίμνιας περιοχής από απορρίμματα. Στόχος δεν είναι απλά να παραδοθεί η παραλίμνια περιοχή καθαρή στους κατοίκους της πόλης και τους επισκέπτες\, αλλά και να σταλεί ένα μήνυμα περιβαλλοντικής αφύπνισης\, ώστε να μην παρουσιάσει ξανά στο μέλλον την ίδια αποκρουστική εικόνα.\nΗ πρωτοβουλία για τον εθελοντικό καθαρισμό της Κυριακής ανήκει στον Δήμο Ιωαννιτών\, από τον οποίο υπήρξε και η πρόσκληση στους Paguristas\, αναγνωρίζοντας την προσφορά του σε ανάλογες δράσεις\, αλλά και τη δύναμή του στην κινητοποίηση των συμπολιτών. Μαζί μας θα βρεθούν μέλη του ΚΕ.Θ.Ε.Α. Ηπείρου\, μαθητές και εκπαιδευτικό προσωπικό των Ι.Ε.Κ. Δέλτα Ιωαννίνων και άλλες ομάδες\, ενώ φυσικά η πρόσκληση για συμμετοχή είναι για κάθε πολίτη.\nΣημείο συνάντησης στις 11 το πρωί το τέλος ακτής Μιαούλη\, στην αρχή του παραλίμνιου ποδηλατοδρόμου-πεζοδρόμου (ξύλινη γέφυρα ). Εμείς θα είμαστε εκεί. Εσύ;
URL:https://paguristas.gr/event/%ce%b5%ce%bc%ce%b5%ce%af%cf%82-%ce%b8%ce%b1-%ce%b5%ce%af%ce%bc%ce%b1%cf%83%cf%84%ce%b5-%ce%b5%ce%ba%ce%b5%ce%af-%ce%b5%cf%83%cf%8d/
LOCATION:Ξύλινη γέφυρα\, Μετά τη Λεωφόρο Καρόλου Παπούλια\, τέλος ακτής Μιαούλη\, αρχή ποδηλατοδρόμου-πεζοδρόμου (ξύλινη γέφυρα).\, Ιωάννινα\, Greece
CATEGORIES:Καθαρισμός
ATTACH;FMTTYPE=image/jpeg:https://paguristas.gr/wp-content/uploads/2023/03/pagouristas_Εμείς-θα-είμαστε-εκεί-Εσύ.jpg
END:VEVENT
BEGIN:VEVENT
DTSTART;TZID=UTC:20160117T170000
DTEND;TZID=UTC:20160117T220000
DTSTAMP:20260425T212057
CREATED:20230320T063344Z
LAST-MODIFIED:20230320T063344Z
UID:3708-1453050000-1453068000@paguristas.gr
SUMMARY:Πρώτη Paguro-Συνάντηση για το 2016
DESCRIPTION:Στην Ελλάδα το πνεύμα του εθελοντισμού προϋπήρχε από την αρχαιότητα με τη θέσπιση του θεσμού των αμφικτιονιών. Οι αμφικτιονίες ήταν ένας θρησκευτικός και πολιτικός σύνδεσμος των Ελλήνων στην αρχαία Ελλάδα\, που δημιουργούνταν με κέντρο τη λατρεία σ’ ένα ιερό από τους κατοίκους των γύρω πόλεων. Παρ’ όλα αυτά με τη πάροδο του χρόνου οι αμφικτιονίες έχασαν τον θρησκευτικό τους χαραχτήρα και δημιούργησαν μια ομοσπονδία υπεύθυνη για τις σημαντικότερες κοινωνικές και πολιτικές αποφάσεις. Οι αμφικτιονίες ήταν η πρώτη προσπάθεια που έγινε για να ρυθμιστούν οι σχέσεις μεταξύ των πόλεων της Ελλάδας καθώς κατά τη διάρκειά τους σταματούσαν όλες οι εχθροπραξίες. Όλες αυτές οι πράξεις πραγματοποιούνταν εθελοντικά και δεν υπήρχε αμοιβή για τα μέλη. Γι’ αυτόν τον λόγο μπορούν να χαρακτηριστούν ως η πρώιμη μορφή του εθελοντικού κινήματος. Αργότερα ο θεσμός αυτός αντικαταστήθηκε από τα Κοινά και τις Συμπολιτείες και έτσι οι αμφικτιονίες εξαφανίστηκαν. Είναι αξιοπρόσεχτο ότι εμφανίζουν πάρα πολλά κοινά σημεία με την Κοινωνία των Εθνών που υπήρχε πριν τον Β’ παγκόσμιο πόλεμο αλλά και με τον οργανισμό των Ηνωμένων Εθνών που υπάρχει σήμερα.\nΣτο παραπάνω εθελοντικό πνεύμα κινείται και η ομάδα των Paguristas\, όπου αναμένει όλα τα μέλη της να παρευρεθούν στην πρώτη συνάντηση του νέου έτους\, για τοποθετήσεις\, συζητήσεις και πράξεις. Καλή χρονιά σε όλους με υγεία και μεράκι για ζωή.
URL:https://paguristas.gr/event/%cf%80%cf%81%cf%8e%cf%84%ce%b7-paguro-%cf%83%cf%85%ce%bd%ce%ac%ce%bd%cf%84%ce%b7%cf%83%ce%b7-%ce%b3%ce%b9%ce%b1-%cf%84%ce%bf-2016/
CATEGORIES:Συναντήσεις Ομάδας
ATTACH;FMTTYPE=image/jpeg:https://paguristas.gr/wp-content/uploads/2023/03/pagouristas_Πρώτη-Paguro-Συνάντηση-για-το-2016.jpg
END:VEVENT
END:VCALENDAR